BEGIN:VCALENDAR
METHOD:PUBLISH
VERSION:2.0
CALSCALE:GREGORIAN
PRODID:-//NONSGML WPForms//NONSGML Sugar Calendar Feeds v3.10.0//EN
X-WR-CALNAME:Meditativer Tanz
X-WR-CALDESC:Kath. Pfarrei St. Hedwig
X-WR-TIMEZONE:Europe/Berlin
BEGIN:VTIMEZONE
TZID:Europe/Berlin
BEGIN:STANDARD
TZOFFSETFROM:+0200
TZOFFSETTO:+0100
DTSTART:20251026T010000
TZNAME:CET
END:STANDARD
BEGIN:DAYLIGHT
TZOFFSETFROM:+0100
TZOFFSETTO:+0200
DTSTART:20260329T010000
TZNAME:CEST
END:DAYLIGHT
END:VTIMEZONE
BEGIN:VTIMEZONE
TZID:Europe/Berlin
BEGIN:STANDARD
TZOFFSETFROM:+0200
TZOFFSETTO:+0100
DTSTART:20251026T010000
TZNAME:CET
END:STANDARD
BEGIN:DAYLIGHT
TZOFFSETFROM:+0100
TZOFFSETTO:+0200
DTSTART:20260329T010000
TZNAME:CEST
END:DAYLIGHT
END:VTIMEZONE
BEGIN:VEVENT
SUMMARY:Meditativer Tanz
DESCRIPTION:Meditativer Tanz als Weg in unsere eigene Mitte.\nKreistänz
 e bewegen Körper\, Geist und Seele!\n\n\,\,Give us Peace" so viel getan
 zte Freude - so viel Himmel auf der Erde.\n\n15.01.\, 29.01.\, 12.02.\, 
 26.02.\, 12.03. \, 26.03. \, 23.04. \, 07 .05. \, 21.05.\, 18.06.\, 02.0
 7.\, 16.07.\, 30. 07.2026
URL;VALUE=URI:https://sankt-hedwig.de/events/meditativer-tanz-2026-04-23
 /
UID:urn:uuid:64333f86-a534-4470-af19-30fdc79abad0
STATUS:CONFIRMED
ORGANIZER:
DTSTAMP:20260420T034420Z
DTSTART;TZID=Europe/Berlin:20260423T190000
DTEND;TZID=Europe/Berlin:20260423T203000
END:VEVENT
END:VCALENDAR